BEGIN:VCALENDAR
VERSION:2.0
PRODID:-//Klara Fabry - ECPv6.14.0//NONSGML v1.0//EN
CALSCALE:GREGORIAN
METHOD:PUBLISH
X-ORIGINAL-URL:http://www.klarafabry.de
X-WR-CALDESC:Veranstaltungen für Klara Fabry
REFRESH-INTERVAL;VALUE=DURATION:PT1H
X-Robots-Tag:noindex
X-PUBLISHED-TTL:PT1H
BEGIN:VTIMEZONE
TZID:Europe/Berlin
BEGIN:DAYLIGHT
TZOFFSETFROM:+0100
TZOFFSETTO:+0200
TZNAME:CEST
DTSTART:20250330T010000
END:DAYLIGHT
BEGIN:STANDARD
TZOFFSETFROM:+0200
TZOFFSETTO:+0100
TZNAME:CET
DTSTART:20251026T010000
END:STANDARD
END:VTIMEZONE
BEGIN:VEVENT
DTSTART;TZID=Europe/Berlin:20251214T100000
DTEND;TZID=Europe/Berlin:20251214T160000
DTSTAMP:20260424T033514
CREATED:20250923T210927Z
LAST-MODIFIED:20250923T210927Z
UID:920-1765706400-1765728000@www.klarafabry.de
SUMMARY:Weihnachtsworkshop
DESCRIPTION:Workshop: „Eintauchen in Weihnachtsmusik“ \nmit Klara Fabry \nRaus aus dem Trubel – einen Tag lang in Weihnachtsmusik eintauchen! \nDieser Workshop ist für alle geeignet – egal\, ob deine Klarinette im Koffer verstaubt oder ob du regelmäßig spielst. Hier findest du eine entspannte\, wertschätzende Atmosphäre\, um einen Tag lang komplett in die Musik einzutauchen. Lass dich inspirieren und in weihnachtliche Schwingung bringen \nOrt: Waldorfschule Dresden \nAnmeldung: klarafabry1@gmail.com\, Teilnahmebetrag: 100 € / 50 €erm. (Schüler/Studenten)
URL:http://www.klarafabry.de/event/weihnachtsworkshop/
END:VEVENT
END:VCALENDAR