BEGIN:VCALENDAR
VERSION:2.0
PRODID:-//Klara Fabry - ECPv6.14.0//NONSGML v1.0//EN
CALSCALE:GREGORIAN
METHOD:PUBLISH
X-WR-CALNAME:Klara Fabry
X-ORIGINAL-URL:http://www.klarafabry.de
X-WR-CALDESC:Veranstaltungen für Klara Fabry
REFRESH-INTERVAL;VALUE=DURATION:PT1H
X-Robots-Tag:noindex
X-PUBLISHED-TTL:PT1H
BEGIN:VTIMEZONE
TZID:Europe/Berlin
BEGIN:DAYLIGHT
TZOFFSETFROM:+0100
TZOFFSETTO:+0200
TZNAME:CEST
DTSTART:20260329T010000
END:DAYLIGHT
BEGIN:STANDARD
TZOFFSETFROM:+0200
TZOFFSETTO:+0100
TZNAME:CET
DTSTART:20261025T010000
END:STANDARD
END:VTIMEZONE
BEGIN:VEVENT
DTSTART;TZID=Europe/Berlin:20260308T170000
DTEND;TZID=Europe/Berlin:20260308T190000
DTSTAMP:20260423T234838
CREATED:20260130T180223Z
LAST-MODIFIED:20260130T180223Z
UID:970-1772989200-1772996400@www.klarafabry.de
SUMMARY:Las Pibas - Konzert zum internationalen Frauentag
DESCRIPTION:Las Pibas \nTrio mit Moriane Krause: Flöte/Bassflöte\, Thu Trang Sauer: Geige\, Klara Fabry: Bassklarinette/Klarinette \nZum Internationalen Frauentag öffnen wir mit unserer Musik einen Ort\, an dem Menschen jeden Alters willkommen sind – Kinder\, Erwachsene\, Frauen\, Männer\, Familien\, Freund*innen. \nWas euch erwartet?\nKammermusikalische gespielte Lateinamerikanische Musik. Klänge aus Tango und Folklore\, neu gedacht\, sehr lebendig interpretiert\, ganz im Moment. Moriana\, unsere Flötistin aus Uruguay\, bringt einen reichen Schatz musikalischer Traditionen mit – wir verwandeln ihn gemeinsam in eine Klangsprache\, die berührt und auf Grund der ungewöhnlichen Besetzung einzigartig ist. \nFür Kinder ist es ein Raum zum Staunen und Zuhören.\nFür Erwachsene ein Moment zum Innehalten.\nFür Männer eine Einladung\, Weiblichkeit jenseits von Klischees zu erleben.\nFür Frauen ein Wiedererkennen von Kraft\, Verletzlichkeit und Tiefe. \nWir glauben: Frauen brauchen einen geschützen Raum\, um sich frei auszudrücken. Wir haben uns diesen Raum selbst geschaffen – und teilen ihn. Unsere Musik lädt dazu ein\, solche Räume zu sehen\, zu schätzen und selbst einzunehmen. Ein Konzert\, das nicht trennt\, sondern verbindet. Ein gemeinsames Erleben\, das bleibt. \n  \nTickets \n 
URL:http://www.klarafabry.de/event/las-pibas-konzert-zum-internationalen-frauentag/
LOCATION:blaue Fabrik\, Eisenbahnstraße 1\, Dresden\, Bundesstaat wählen:\, 01097\, Germany
ATTACH;FMTTYPE=image/jpeg:http://www.klarafabry.de/wp-content/uploads/2025/09/S1000782-scaled.jpeg
END:VEVENT
END:VCALENDAR