BEGIN:VCALENDAR
VERSION:2.0
PRODID:-//Klara Fabry - ECPv6.14.0//NONSGML v1.0//EN
CALSCALE:GREGORIAN
METHOD:PUBLISH
X-ORIGINAL-URL:http://www.klarafabry.de
X-WR-CALDESC:Veranstaltungen für Klara Fabry
REFRESH-INTERVAL;VALUE=DURATION:PT1H
X-Robots-Tag:noindex
X-PUBLISHED-TTL:PT1H
BEGIN:VTIMEZONE
TZID:Europe/Berlin
BEGIN:DAYLIGHT
TZOFFSETFROM:+0100
TZOFFSETTO:+0200
TZNAME:CEST
DTSTART:20260329T010000
END:DAYLIGHT
BEGIN:STANDARD
TZOFFSETFROM:+0200
TZOFFSETTO:+0100
TZNAME:CET
DTSTART:20261025T010000
END:STANDARD
END:VTIMEZONE
BEGIN:VEVENT
DTSTART;TZID=Europe/Berlin:20260402T200000
DTEND;TZID=Europe/Berlin:20260402T220000
DTSTAMP:20260423T183159
CREATED:20260130T190546Z
LAST-MODIFIED:20260130T190546Z
UID:978-1775160000-1775167200@www.klarafabry.de
SUMMARY:Frühlingserwachen
DESCRIPTION:Frühlingserwachen- Zwischen Winterschlaf und Aufbruch\nEin szenisch-musikalischer Theaterabend \nDer Augenblick zwischen Winterschlaf und Frühlingserwachen\, der Moment des Aufbrechens der Natur\, der Sinne\, der Gefühle und tiefer Empfindungen – mannigfach in Wort und Musik\, in Bild und Gestalt festgehalten – bietet belebenden Stoff für einen szenisch-musikalischen Theaterabend. Rilke meint\, der Frühling sei „waldeigen und kommt nicht in die Stadt“. Falls Sie bereits vom Winterschlaf erwacht- und noch nicht in die Frühjahrsmüdigkeit gefallen sind\, kommen Sie doch zu uns hinaus ins Chinesische Pavillion am Rand der Heide. Wir würden Sie gerne als Gäste an diesem Abend begrüßen. \nMitwirkende: Klara Fabry\, Anna von Koch\, Karolina Petrowa\, Thomas Foerster und Paul Hoorn \nTechnik: Viktor Boehme \nMusikalische Leitung Arrangements und Einstudierung: Paul Hoorn \nIdee\, Buch und Regie: Thomas Foerster \nFreuen Sie sich mit uns gemeinsam auf einen musikalischen Start in den Frühling!
URL:http://www.klarafabry.de/event/fruehlingserwachen-2/
ATTACH;FMTTYPE=image/jpeg:http://www.klarafabry.de/wp-content/uploads/2024/01/IMG-20220310-WA0013.jpg
END:VEVENT
END:VCALENDAR