BEGIN:VCALENDAR
VERSION:2.0
PRODID:-//Klara Fabry - ECPv6.14.0//NONSGML v1.0//EN
CALSCALE:GREGORIAN
METHOD:PUBLISH
X-WR-CALNAME:Klara Fabry
X-ORIGINAL-URL:https://www.klarafabry.de
X-WR-CALDESC:Veranstaltungen für Klara Fabry
REFRESH-INTERVAL;VALUE=DURATION:PT1H
X-Robots-Tag:noindex
X-PUBLISHED-TTL:PT1H
BEGIN:VTIMEZONE
TZID:Europe/Berlin
BEGIN:DAYLIGHT
TZOFFSETFROM:+0100
TZOFFSETTO:+0200
TZNAME:CEST
DTSTART:20260329T010000
END:DAYLIGHT
BEGIN:STANDARD
TZOFFSETFROM:+0200
TZOFFSETTO:+0100
TZNAME:CET
DTSTART:20261025T010000
END:STANDARD
END:VTIMEZONE
BEGIN:VEVENT
DTSTART;TZID=Europe/Berlin:20260426T110000
DTEND;TZID=Europe/Berlin:20260426T133000
DTSTAMP:20260423T140822
CREATED:20260414T212203Z
LAST-MODIFIED:20260414T212203Z
UID:1020-1777201200-1777210200@www.klarafabry.de
SUMMARY:Trio Pinheiro
DESCRIPTION:Klaras klangvolle Klarinette wird nach Jahren wieder in Winnenden zu hören sein. Als Klezmermusikerin ist Klara Fabry (geborene Schmitzer)  bekannt durch „Winnenden liest“und Auftritte im Waiblinger „Schwanen“. Am Sonntag\, 26. April 2026\, um 11 Uhr (Einlass ab 10.30 Uhr) ist sie bei der Jazzmatinee im Theater Alte Kelter als Mitglied des Trio Pinheiro zu hören. Anna von Koch (Cello)\, Eduardo Pinheiro (Gitarrre) und Klara Fabry (Klarinette) mischen Klassik\, Jazz\, brasilianische Einflüsse und Klezmerelemente.   Der versierte und feinsinnige brasilianisch-deutsche Gitarrist Eduardo Pinheiro arrangiert Latin Jazz\, brasilianische Tänze und Klezmer-Titel für das Trio und fügt dem eigene Kompositionen hinzu
URL:https://www.klarafabry.de/event/trio-pinheiro-3/
LOCATION:alte kelter Winnenden
ATTACH;FMTTYPE=image/jpeg:https://www.klarafabry.de/wp-content/uploads/2026/01/Pinheiroquadrat.jpg
END:VEVENT
BEGIN:VEVENT
DTSTART;TZID=Europe/Berlin:20260510T150000
DTEND;TZID=Europe/Berlin:20260510T170000
DTSTAMP:20260423T140822
CREATED:20260414T212359Z
LAST-MODIFIED:20260414T212359Z
UID:1023-1778425200-1778432400@www.klarafabry.de
SUMMARY:Trio Pinheiro
DESCRIPTION:
URL:https://www.klarafabry.de/event/trio-pinheiro-4/
LOCATION:Barockschloss Neschwitz
ATTACH;FMTTYPE=image/jpeg:https://www.klarafabry.de/wp-content/uploads/2026/01/DSCF2712-scaled.jpg
END:VEVENT
BEGIN:VEVENT
DTSTART;TZID=Europe/Berlin:20260517T170000
DTEND;TZID=Europe/Berlin:20260517T190000
DTSTAMP:20260423T140822
CREATED:20260414T212904Z
LAST-MODIFIED:20260414T212904Z
UID:1026-1779037200-1779044400@www.klarafabry.de
SUMMARY:Trio Pinheiro
DESCRIPTION:Trio Pinheiro (Dresden) ist ein Ensemble\, das durch die feinen\, überraschenden und tiefgründigen Kompositionen von Eduardo Pinheiro zusammengebracht wurde. Jazz und brasilianische Musik erzählt in kammermusikalischer Spielweise von Sagen\, magischen Momenten und Sehnsüchten. Osteuropäische Musik und Klezmer\, ergänzen die Musik und so entsteht eine musikalische Reise von Brasilien bis Bulgarien. Mit Cello\, Gitarre und Klarinette erschaffen wir beglückende Musikmomente\, mit zarten\, introspektiven bis hin zu kraftvoll-rauschhaften\, verrückten Klängen. Intuitives Spiel steht im Zentrum unserer musikalischen Sprache\, wodurch jeder Auftritt eine neue\, lebendige Erfahrung wird.
URL:https://www.klarafabry.de/event/trio-pinheiro-5/
LOCATION:Kirche Moritzburg\, Schloßallee 38\, Moritzburg\, 01468
ATTACH;FMTTYPE=image/jpeg:https://www.klarafabry.de/wp-content/uploads/2026/01/DSCF2712-scaled.jpg
END:VEVENT
END:VCALENDAR